BEGIN:VCALENDAR
VERSION:2.0
PRODID:-//Musée de la toile de Jouy - ECPv6.15.20//NONSGML v1.0//EN
CALSCALE:GREGORIAN
METHOD:PUBLISH
X-WR-CALNAME:Musée de la toile de Jouy
X-ORIGINAL-URL:https://www.museedelatoiledejouy.fr
X-WR-CALDESC:Évènements pour Musée de la toile de Jouy
REFRESH-INTERVAL;VALUE=DURATION:PT1H
X-Robots-Tag:noindex
X-PUBLISHED-TTL:PT1H
BEGIN:VTIMEZONE
TZID:Europe/Paris
BEGIN:DAYLIGHT
TZOFFSETFROM:+0100
TZOFFSETTO:+0200
TZNAME:CEST
DTSTART:20250330T010000
END:DAYLIGHT
BEGIN:STANDARD
TZOFFSETFROM:+0200
TZOFFSETTO:+0100
TZNAME:CET
DTSTART:20251026T010000
END:STANDARD
BEGIN:DAYLIGHT
TZOFFSETFROM:+0100
TZOFFSETTO:+0200
TZNAME:CEST
DTSTART:20260329T010000
END:DAYLIGHT
BEGIN:STANDARD
TZOFFSETFROM:+0200
TZOFFSETTO:+0100
TZNAME:CET
DTSTART:20261025T010000
END:STANDARD
BEGIN:DAYLIGHT
TZOFFSETFROM:+0100
TZOFFSETTO:+0200
TZNAME:CEST
DTSTART:20270328T010000
END:DAYLIGHT
BEGIN:STANDARD
TZOFFSETFROM:+0200
TZOFFSETTO:+0100
TZNAME:CET
DTSTART:20271031T010000
END:STANDARD
END:VTIMEZONE
BEGIN:VEVENT
DTSTART;TZID=Europe/Paris:20260224T150000
DTEND;TZID=Europe/Paris:20260224T160000
DTSTAMP:20260422T034952
CREATED:20260114T163436Z
LAST-MODIFIED:20260114T164254Z
UID:10002995-1771945200-1771948800@www.museedelatoiledejouy.fr
SUMMARY:Activités pour les enfants pendant les vacances scolaires
DESCRIPTION:Nouvel an Chinois\nFabrication d’une lanterne en papier aux motifs Toile de Jouy.\nÂge : 7-12 ans\nSans parents.\nLien pour s’inscrire : https://www.museedelatoiledejouy.fr/votre-visite/billetterie-et-reservation/vacances-scolaires/
URL:https://www.museedelatoiledejouy.fr/activites/activites-pour-les-enfants-nouvel-an-chinois/
LOCATION:Musée de la Toile de Jouy\, Château de l'Eglantine 54 rue Charles de Gaulle\, Jouy-en-Josas\, 78350\, France
CATEGORIES:Animations pendant les vacances scolaires
ATTACH;FMTTYPE=image/png:https://www.museedelatoiledejouy.fr/wp-content/uploads/2026/01/sans-titre-1-1.png
ORGANIZER;CN="BILLETTERIE EN LIGNE":MAILTO:museetdj@jouy-en-josas.fr
END:VEVENT
BEGIN:VEVENT
DTSTART;TZID=Europe/Paris:20260227T110000
DTEND;TZID=Europe/Paris:20260227T120000
DTSTAMP:20260422T034952
CREATED:20260114T164526Z
LAST-MODIFIED:20260114T165440Z
UID:10002996-1772190000-1772193600@www.museedelatoiledejouy.fr
SUMMARY:Activités pour les enfants pendant les vacances scolaires
DESCRIPTION:﻿Nouvel an chinois : fabrication d’une lanterne en papier aux motifs Toile de Jouy\nAge : 3-6 ans\nSans parents. Sur inscription.
URL:https://www.museedelatoiledejouy.fr/activites/activites-pour-les-enfants-pendant-les-vacances-scolaires/
LOCATION:Musée de la Toile de Jouy\, Château de l'Eglantine 54 rue Charles de Gaulle\, Jouy-en-Josas\, 78350\, France
CATEGORIES:Animations pendant les vacances scolaires
ATTACH;FMTTYPE=image/jpeg:https://www.museedelatoiledejouy.fr/wp-content/uploads/2024/11/320x240-atelier-vacances-scolaires-au-musee-de-la-toile-de-jouy-32200.jpg
ORGANIZER;CN="BILLETTERIE EN LIGNE":MAILTO:museetdj@jouy-en-josas.fr
END:VEVENT
BEGIN:VEVENT
DTSTART;TZID=Europe/Paris:20260305T140000
DTEND;TZID=Europe/Paris:20260305T160000
DTSTAMP:20260422T034952
CREATED:20260125T193823Z
LAST-MODIFIED:20260125T194648Z
UID:10002997-1772719200-1772726400@www.museedelatoiledejouy.fr
SUMMARY:Atelier patchwork en Toile de Jouy
DESCRIPTION:Atelier précédé d’une visite ludique des collections permanentes du Musée \nCliquez ici pour  l’inscription
URL:https://www.museedelatoiledejouy.fr/activites/atelier-patchwork-en-toile-de-jouy/
LOCATION:Musée de la Toile de Jouy\, Château de l'Eglantine 54 rue Charles de Gaulle\, Jouy-en-Josas\, 78350\, France
CATEGORIES:Animations pendant les vacances scolaires
ATTACH;FMTTYPE=image/jpeg:https://www.museedelatoiledejouy.fr/wp-content/uploads/2025/03/p1037497-scaled.jpg
ORGANIZER;CN="BILLETTERIE EN LIGNE":MAILTO:museetdj@jouy-en-josas.fr
END:VEVENT
BEGIN:VEVENT
DTSTART;TZID=Europe/Paris:20260422T110000
DTEND;TZID=Europe/Paris:20260422T180000
DTSTAMP:20260422T034952
CREATED:20260125T200433Z
LAST-MODIFIED:20260413T153630Z
UID:10002998-1776855600-1776880800@www.museedelatoiledejouy.fr
SUMMARY:Chasse aux œufs de Pâques
DESCRIPTION:Chasse aux œufs de Pâques au Musée de la Toile de Jouy \n5-12 ans. \nGratuit pour les moins de 7 ans. \nTarif  d’entrée du Musée.
URL:https://www.museedelatoiledejouy.fr/activites/chasse-aux-oeufs-de-paques/
LOCATION:Musée de la Toile de Jouy\, Château de l'Eglantine 54 rue Charles de Gaulle\, Jouy-en-Josas\, 78350\, France
CATEGORIES:Familles,Animations pendant les vacances scolaires
ATTACH;FMTTYPE=image/jpeg:https://www.museedelatoiledejouy.fr/wp-content/uploads/2026/01/5316-scaled.jpg
END:VEVENT
BEGIN:VEVENT
DTSTART;TZID=Europe/Paris:20260428T140000
DTEND;TZID=Europe/Paris:20260428T160000
DTSTAMP:20260422T034952
CREATED:20260125T200816Z
LAST-MODIFIED:20260416T132753Z
UID:10002999-1777384800-1777392000@www.museedelatoiledejouy.fr
SUMMARY:Atelier modelage de fleurs en argile
DESCRIPTION:Atelier modelage de fleurs en argile précédé d’une visite ludique de l’exposition « Herbarium interior » \n6-12 ans \nTarif : 12€ par enfant. Sur réservation. Sans parents. \n 
URL:https://www.museedelatoiledejouy.fr/activites/atelier-modelage-de-fleurs-en-argile/
CATEGORIES:Animations pendant les vacances scolaires
ATTACH;FMTTYPE=image/png:https://www.museedelatoiledejouy.fr/wp-content/uploads/2026/01/site-internet-evenement-1.png
ORGANIZER;CN="BILLETTERIE EN LIGNE":MAILTO:museetdj@jouy-en-josas.fr
END:VEVENT
END:VCALENDAR