BEGIN:VCALENDAR
VERSION:2.0
PRODID:-//Musée de la toile de Jouy - ECPv6.15.20//NONSGML v1.0//EN
CALSCALE:GREGORIAN
METHOD:PUBLISH
X-WR-CALNAME:Musée de la toile de Jouy
X-ORIGINAL-URL:https://www.museedelatoiledejouy.fr
X-WR-CALDESC:Évènements pour Musée de la toile de Jouy
REFRESH-INTERVAL;VALUE=DURATION:PT1H
X-Robots-Tag:noindex
X-PUBLISHED-TTL:PT1H
BEGIN:VTIMEZONE
TZID:Europe/Paris
BEGIN:DAYLIGHT
TZOFFSETFROM:+0100
TZOFFSETTO:+0200
TZNAME:CEST
DTSTART:20240331T010000
END:DAYLIGHT
BEGIN:STANDARD
TZOFFSETFROM:+0200
TZOFFSETTO:+0100
TZNAME:CET
DTSTART:20241027T010000
END:STANDARD
BEGIN:DAYLIGHT
TZOFFSETFROM:+0100
TZOFFSETTO:+0200
TZNAME:CEST
DTSTART:20250330T010000
END:DAYLIGHT
BEGIN:STANDARD
TZOFFSETFROM:+0200
TZOFFSETTO:+0100
TZNAME:CET
DTSTART:20251026T010000
END:STANDARD
BEGIN:DAYLIGHT
TZOFFSETFROM:+0100
TZOFFSETTO:+0200
TZNAME:CEST
DTSTART:20260329T010000
END:DAYLIGHT
BEGIN:STANDARD
TZOFFSETFROM:+0200
TZOFFSETTO:+0100
TZNAME:CET
DTSTART:20261025T010000
END:STANDARD
END:VTIMEZONE
BEGIN:VEVENT
DTSTART;TZID=Europe/Paris:20251109T150000
DTEND;TZID=Europe/Paris:20251109T170000
DTSTAMP:20260419T224947
CREATED:20250613T141804Z
LAST-MODIFIED:20250613T141804Z
UID:10002951-1762700400-1762707600@www.museedelatoiledejouy.fr
SUMMARY:Atelier Art filaire
DESCRIPTION:Cet atelier  s’adresse aux enfants de 6 à 12 ans. \nUne belle occasion pour eux de découvrir une technique artistique ludique et originale avec les motifs Toile de Jouy ! \nAtelier manuel précédé d’une visite ludique des collections permanentes ou de l’exposition temporaire.
URL:https://www.museedelatoiledejouy.fr/activites/atelier-art-filaire/
LOCATION:Musée de la Toile de Jouy\, Château de l'Eglantine 54 rue Charles de Gaulle\, Jouy-en-Josas\, 78350\, France
CATEGORIES:Ateliers créatifs enfants,Familles
ATTACH;FMTTYPE=image/jpeg:https://www.museedelatoiledejouy.fr/wp-content/uploads/2025/06/20250322-144140-scaled.jpg
ORGANIZER;CN="BILLETTERIE EN LIGNE":MAILTO:museetdj@jouy-en-josas.fr
END:VEVENT
END:VCALENDAR