BEGIN:VCALENDAR
VERSION:2.0
PRODID:-//Musée de la toile de Jouy - ECPv6.15.20//NONSGML v1.0//EN
CALSCALE:GREGORIAN
METHOD:PUBLISH
X-ORIGINAL-URL:https://www.museedelatoiledejouy.fr
X-WR-CALDESC:Évènements pour Musée de la toile de Jouy
REFRESH-INTERVAL;VALUE=DURATION:PT1H
X-Robots-Tag:noindex
X-PUBLISHED-TTL:PT1H
BEGIN:VTIMEZONE
TZID:Europe/Paris
BEGIN:DAYLIGHT
TZOFFSETFROM:+0100
TZOFFSETTO:+0200
TZNAME:CEST
DTSTART:20240331T010000
END:DAYLIGHT
BEGIN:STANDARD
TZOFFSETFROM:+0200
TZOFFSETTO:+0100
TZNAME:CET
DTSTART:20241027T010000
END:STANDARD
BEGIN:DAYLIGHT
TZOFFSETFROM:+0100
TZOFFSETTO:+0200
TZNAME:CEST
DTSTART:20250330T010000
END:DAYLIGHT
BEGIN:STANDARD
TZOFFSETFROM:+0200
TZOFFSETTO:+0100
TZNAME:CET
DTSTART:20251026T010000
END:STANDARD
BEGIN:DAYLIGHT
TZOFFSETFROM:+0100
TZOFFSETTO:+0200
TZNAME:CEST
DTSTART:20260329T010000
END:DAYLIGHT
BEGIN:STANDARD
TZOFFSETFROM:+0200
TZOFFSETTO:+0100
TZNAME:CET
DTSTART:20261025T010000
END:STANDARD
END:VTIMEZONE
BEGIN:VEVENT
DTSTART;TZID=Europe/Paris:20251214T150000
DTEND;TZID=Europe/Paris:20251214T170000
DTSTAMP:20260419T194117
CREATED:20250613T152335Z
LAST-MODIFIED:20251126T145541Z
UID:10002957-1765724400-1765731600@www.museedelatoiledejouy.fr
SUMMARY:Atelier Punch needle
DESCRIPTION:Cet atelier s’adresse aux enfants de 6 à 12 ans. \nInscription obligatoire. \nAtelier manuel précédé d’une visite ludique des collections permanentes ou de l’exposition temporaire. \nCliquez sur le lien pour réserver  
URL:https://www.museedelatoiledejouy.fr/activites/atelier-punch-needle/
LOCATION:Musée de la Toile de Jouy\, Château de l'Eglantine 54 rue Charles de Gaulle\, Jouy-en-Josas\, 78350\, France
CATEGORIES:Ateliers créatifs enfants
ATTACH;FMTTYPE=image/jpeg:https://www.museedelatoiledejouy.fr/wp-content/uploads/2025/06/20251114-122232-scaled.jpg
ORGANIZER;CN="BILLETTERIE EN LIGNE":MAILTO:museetdj@jouy-en-josas.fr
END:VEVENT
END:VCALENDAR