BEGIN:VCALENDAR
VERSION:2.0
PRODID:-//Musée de la toile de Jouy - ECPv6.15.20//NONSGML v1.0//EN
CALSCALE:GREGORIAN
METHOD:PUBLISH
X-WR-CALNAME:Musée de la toile de Jouy
X-ORIGINAL-URL:https://www.museedelatoiledejouy.fr
X-WR-CALDESC:Évènements pour Musée de la toile de Jouy
REFRESH-INTERVAL;VALUE=DURATION:PT1H
X-Robots-Tag:noindex
X-PUBLISHED-TTL:PT1H
BEGIN:VTIMEZONE
TZID:Europe/Paris
BEGIN:DAYLIGHT
TZOFFSETFROM:+0100
TZOFFSETTO:+0200
TZNAME:CEST
DTSTART:20250330T010000
END:DAYLIGHT
BEGIN:STANDARD
TZOFFSETFROM:+0200
TZOFFSETTO:+0100
TZNAME:CET
DTSTART:20251026T010000
END:STANDARD
BEGIN:DAYLIGHT
TZOFFSETFROM:+0100
TZOFFSETTO:+0200
TZNAME:CEST
DTSTART:20260329T010000
END:DAYLIGHT
BEGIN:STANDARD
TZOFFSETFROM:+0200
TZOFFSETTO:+0100
TZNAME:CET
DTSTART:20261025T010000
END:STANDARD
BEGIN:DAYLIGHT
TZOFFSETFROM:+0100
TZOFFSETTO:+0200
TZNAME:CEST
DTSTART:20270328T010000
END:DAYLIGHT
BEGIN:STANDARD
TZOFFSETFROM:+0200
TZOFFSETTO:+0100
TZNAME:CET
DTSTART:20271031T010000
END:STANDARD
END:VTIMEZONE
BEGIN:VEVENT
DTSTART;TZID=Europe/Paris:20260428T140000
DTEND;TZID=Europe/Paris:20260428T160000
DTSTAMP:20260420T064722
CREATED:20260125T200816Z
LAST-MODIFIED:20260416T132753Z
UID:10002999-1777384800-1777392000@www.museedelatoiledejouy.fr
SUMMARY:Atelier modelage de fleurs en argile
DESCRIPTION:Atelier modelage de fleurs en argile précédé d’une visite ludique de l’exposition « Herbarium interior » \n6-12 ans \nTarif : 12€ par enfant. Sur réservation. Sans parents. \n 
URL:https://www.museedelatoiledejouy.fr/activites/atelier-modelage-de-fleurs-en-argile/
CATEGORIES:Animations pendant les vacances scolaires
ATTACH;FMTTYPE=image/png:https://www.museedelatoiledejouy.fr/wp-content/uploads/2026/01/site-internet-evenement-1.png
ORGANIZER;CN="BILLETTERIE EN LIGNE":MAILTO:museetdj@jouy-en-josas.fr
END:VEVENT
END:VCALENDAR